BEGIN:VCALENDAR
VERSION:2.0
PRODID:-//SOFER Initiative - ECPv6.0.13.1//NONSGML v1.0//EN
CALSCALE:GREGORIAN
METHOD:PUBLISH
X-WR-CALNAME:SOFER Initiative
X-ORIGINAL-URL:https://soferinitiative.org/oldsite
X-WR-CALDESC:Events for SOFER Initiative
REFRESH-INTERVAL;VALUE=DURATION:PT1H
X-Robots-Tag:noindex
X-PUBLISHED-TTL:PT1H
BEGIN:VTIMEZONE
TZID:Africa/Lagos
BEGIN:STANDARD
TZOFFSETFROM:+0100
TZOFFSETTO:+0100
TZNAME:WAT
DTSTART:20220101T000000
END:STANDARD
END:VTIMEZONE
BEGIN:VEVENT
DTSTART;VALUE=DATE:20220605
DTEND;VALUE=DATE:20220606
DTSTAMP:20260425T173651
CREATED:20220520T120506Z
LAST-MODIFIED:20220607T152238Z
UID:20354-1654387200-1654473599@soferinitiative.org
SUMMARY:World Environment Day 2022 - Fishing Net Gains - Ghost Gear Craft Contest
DESCRIPTION:Fishing Net Gains – Ghost Gear Craft Contest is a special contest event organized by Stand Out for Environment Restoration (SOFER) Initiative to solve the problem relating to Abandon\, Lost\, or otherwise Discarded Fishing Gears (ALDFGs)\, in coastal regions of Nigeria and West Africa\, and to mark the World Environment Day Celebration (Only One Earth)  on June 5\, 2022. This contest tasks the participants to repurpose ghost gear(s) into finished handicrafts of bags\, shoes\, floor mats\, décor\, etc. \nJoin the contest\, and repurpose ghost gear!\nThis contest is open to all SOFER Initiative trained crafters and the general public. \n\n	Contest Guidelines\n\n	Contest Timeline\n\n\nRegistration Expires: 20th – 31th of May\, 2022\nCraft(s) Submission Expires: 2nd of June\, 2022\nVerification of Works: 4th of June\, 2022\nCelebration & Announcement of Awards: 5th June\, 2022\n\n\n	Contest Requirements\n\n\n80% to 100% of your craft item(s) must be produced with the use of Fishing Gears\nyou can either sign up as an individual or a group crafter\nverification of registration details before commencement of work\n\n\n	Selection Criteria\n\n\nFinesse – your craft work must have a good finishing\, durability and creativity\nRelevance & Usefulness (including market value – saleability) of produced item(s)\nDocumentary of production which include cost\, tools\, measurements\, and how the craft was produced\n\n\n	Benefits for Participants\n\n\nCash prizes for the best three (3) selected craft works\nOpportunities for the first ten (10) selected saleable craft works to be sold online\nGain access to both Local and International Sponsors\nExposure of selected craft works on SOFER Initiative website\n\n  \nRegister to Participate\n  \n\n	Meet Our Panelist\n\n\n  \n\n	Contest Participants
URL:https://soferinitiative.org/oldsite/event/world-environment-day-2022-ghost-gear-craft-contest/
LOCATION:SOFER Initiative HQ\, #104 Unit L Ewet Housing Estate\, Uyo\, Akwa Ibom\, 520001\, Nigeria
CATEGORIES:Celebration,Environment
ATTACH;FMTTYPE=image/png:https://soferinitiative.org/oldsite/wp-content/uploads/2022/05/CRAFT-CONTEST-2022-1.png
ORGANIZER;CN="SOFER%20Initiative":MAILTO:hello@soferinitiative.org
END:VEVENT
END:VCALENDAR